BEGIN:VCALENDAR
VERSION:2.0
PRODID:-//El Guayabal de Mindo - ECPv6.3.4//NONSGML v1.0//EN
CALSCALE:GREGORIAN
METHOD:PUBLISH
X-WR-CALNAME:El Guayabal de Mindo
X-ORIGINAL-URL:https://elguayabaldemindo.com
X-WR-CALDESC:Eventos para El Guayabal de Mindo
REFRESH-INTERVAL;VALUE=DURATION:PT1H
X-Robots-Tag:noindex
X-PUBLISHED-TTL:PT1H
BEGIN:VTIMEZONE
TZID:America/Bogota
BEGIN:STANDARD
TZOFFSETFROM:-0500
TZOFFSETTO:-0500
TZNAME:-05
DTSTART:20240101T000000
END:STANDARD
END:VTIMEZONE
BEGIN:VEVENT
DTSTART;TZID=America/Bogota:20240121T100000
DTEND;TZID=America/Bogota:20240121T170000
DTSTAMP:20260417T182304
CREATED:20240118T201220Z
LAST-MODIFIED:20240118T202418Z
UID:3281-1705831200-1705856400@elguayabaldemindo.com
SUMMARY:Torneo de fútbol octavos de final Mindo 2024
DESCRIPTION:  \nLes invitamos a disfrutar los octavos de final del campeonato Interparroquial en Mindo\, apoya a tu equipo favorito!
URL:https://elguayabaldemindo.com/event/torneo-de-futbol-octavos-de-final-mindo-2024/
LOCATION:Estadio de Mindo\, Sixto Durán entre Lluvia de Oro y Manakin\, Mindo\, Pichincha\, 711202\, Ecuador
CATEGORIES:Eventos
ATTACH;FMTTYPE=image/jpeg:https://elguayabaldemindo.com/wp-content/uploads/2024/01/WhatsApp-Image-2024-01-17-at-5.01.35-PM.jpeg
END:VEVENT
END:VCALENDAR